BEGIN:VCALENDAR
VERSION:2.0
METHOD:PUBLISH
BEGIN:VEVENT
UID:WILD_APRICOT_EVENT_103247_SESSION_1
DTSTART:20091123T164500Z
DTEND:20091124T053000Z
SUMMARY:Committee Meeting
LOCATION:Massimo Cafe Albany
DESCRIPTION:http://nzfsmotorsport.org.nz/event-103247\n\n                Committee Meeting \n\nAgenda\n     *  Apologies      *  Minutes      *  Accounts      *  Way Forward for the Club      *  Membership      *  Motorsport Training Day       *  Club Events      *  General Bussiness\n\n
DTSTAMP:20180120T190509Z
END:VEVENT
END:VCALENDAR
