BEGIN:VCALENDAR
VERSION:2.0
METHOD:PUBLISH
BEGIN:VEVENT
UID:WILD_APRICOT_EVENT_106999_SESSION_1
DTSTART:20100319T180000Z
DTEND:20100321T050000Z
SUMMARY:Four Peaks Poker Run
LOCATION:Auckland to Bay of Islands
DESCRIPTION:http://nzfsmotorsport.org.nz/event-106999\n\n        Four Peaks Entry Form\n Brought to you by the team which organises the highly successful Auckland Poker Run based from Viaduct Harbour and Gold Coast Poker Run in Queensland Australia\, it’s the ultimate road trip with spectacular scenery\, a game of chance and an opportunity to have a great motoring adventure with a like-minded group of enthusiasts. \n The event is open to all vehicles\, including motorcycles\, with current registration and warrant of fitness.  All vehicles must be insured. Sorry canopied race boats\, helicopters and jet fighters are not permitted\, this is a motoring event aimed at everything from Family Sedans\, Classic and Thoroughbred Sports Cars\, GT Saloons\, Muscle Cars\, SUV’s\, Touring Bikes and other toys that have spent far to long languishing in the garage during the recession and are in desperate need of having the spiders scared out of them and the cobwebs blown away……..don’t delay\, enter the ultimate road trip today. Great prizes to be won. \n This is not a race\; participants collect a number of playing cards from different check points\, the winner being the person with the best hand of five cards. A Family Quiz with questions based on points of interest along the route and the event's sponsors is run as part of the Poker Run. \n The Four Peaks Poker Run and Family Quiz will follow an interesting route from Auckland to the Bay of Islands on Saturday 20 March 2010 (Daylight Saving Time) on sealed roads with an approximate total distance of 360 kilometres. The event is open to a maximum of 120 vehicles\, including motorcycles with current registration\, insurance and warrant of fitness. \n The compulsory Documentation and Drivers’ Briefing will be held at 0800 hours on the North Shore in Auckland\, prior to the start on Saturday 20 March 2010. Prize-giving will be held on Saturday evening at Paihia in the Bay of Islands.  \n Details of preferential accommodation will be advised with your acceptance of entry\, for those who wish to stay in the beautiful Bay of Islands on the Saturday night after the event.\n For further information\, contact: Stuart Roberts tel: 09 482 5481\, mobile: 0274 957 474\, e-mail: concepts@pokerrun.co.nz. \n  Please circulate this far and wide and advise if there is anyone else that wishes to be added to our email database.\n   Regards\n  Stuart Roberts\n Event Director\n Concepts International (NZ) Ltd\n Event & Motorsport Management\n 09 482 5481 \n 0274 957 474\n
DTSTAMP:20180120T190320Z
END:VEVENT
END:VCALENDAR
