BEGIN:VCALENDAR
VERSION:2.0
METHOD:PUBLISH
BEGIN:VEVENT
UID:WILD_APRICOT_EVENT_115460_SESSION_1
DTSTART:20100409T190000Z
DTEND:20100411T060000Z
SUMMARY:Whitianga Festival of Speed
LOCATION:Whitianga
DESCRIPTION:http://nzfsmotorsport.org.nz/event-115460\n\n \n     More information visit the website\n                                             CLICK HERE      \n   
DTSTAMP:20180120T190259Z
END:VEVENT
END:VCALENDAR
