BEGIN:VCALENDAR
VERSION:2.0
METHOD:PUBLISH
BEGIN:VEVENT
UID:WILD_APRICOT_EVENT_115461_SESSION_1
DTSTART:20100217T180000Z
DTEND:20100221T050000Z
SUMMARY:Top Gear Live
LOCATION:Auckland ASB Show Grounds
DESCRIPTION:http://nzfsmotorsport.org.nz/event-115461\n\n         \n  \n Visit the Top Gear Site    CLICK HERE\n     \n     \n
DTSTAMP:20180120T190408Z
END:VEVENT
END:VCALENDAR
