BEGIN:VCALENDAR
VERSION:2.0
METHOD:PUBLISH
BEGIN:VEVENT
UID:WILD_APRICOT_EVENT_116031_SESSION_1
DTSTART:20100213T180000Z
DTEND:20100214T050000Z
SUMMARY:Quickfire Sprints (Taupo)
LOCATION:Taupo Raceway
DESCRIPTION:http://nzfsmotorsport.org.nz/event-116031\n\n                     \n The Cortina GT & Small Fords Car Club is holding its Quickfire Sprints at Taupo again on Sunday 14 February 2010. The event is open to all but is kept deliberately small to maximise time on the track and entries are limited. If you’re looking for a low key opportunity to settle in a new car\, gain experience\, valentines gift or are just looking for a fun day you won’t get better than this! \n \n To facilitate the smooth running of the event we are offering a $50 discount (Normal Entry $120.00) to the first 10 competitors who can provide a helper for the day (Please advise when entering). No experience will be necessary just an interest in motorsport. We will buddy the helpers up to assist with track marshalling (best seats in the house). All helpers will be provided lunch and the opportunity for some hot laps of the track.\n \n Catering for a number of experience levels\, novice drivers can run dual-car sprints all day while more experienced drivers can move to multi-car sprints. Multi car sprints\, 6 cars starting together\, allow a taste of racing in traffic and are a great stepping stone to a full race grid start. Novices can be placed at the back of the grid so they don’t have to worry about being overtaken. This year we have the whole track booked which will provide a change from previous years and will also allow a higher number of sprint laps than smaller venues. This is a great day for drivers to get some timed laps in and have their partner/family/sponsor participate.\n \n At the end of the day 4:00pm – 5:00pm (before track closure) we will be hosting a novice drift session. This is to give both young and old an opportunity to give drifting a go in a low key setting. We expect this to be entertaining for both drivers and spectators and add something different to the day.   \n \n Pre-event scrutineering will take place Thursday 11th February from 5:00pm -7:00pm at Mechanix\, 1096 Great North Road\, Pt Chevalier\, Auckland.   \n \n For more information contact Gareth Wilson 021 2450909 gawilson96@hotmail.com\, Paul Nielson 021 498839 or visit www.aucklandcarclub.org.nz/_cortina/ for event documentation. \n      \n   \n 
DTSTAMP:20180120T190435Z
END:VEVENT
END:VCALENDAR
