BEGIN:VCALENDAR
VERSION:2.0
METHOD:PUBLISH
BEGIN:VEVENT
UID:WILD_APRICOT_EVENT_117037_SESSION_1
DTSTART:20100311T183000Z
DTEND:20100314T050000Z
SUMMARY:2010 Targa Bambina
LOCATION:Franklin
DESCRIPTION:http://nzfsmotorsport.org.nz/event-117037\n\nTarga Bambina Rally for 2010\, 2 day event around South Auckland. \n Counting Down To Targa\n\n
DTSTAMP:20180120T190343Z
END:VEVENT
END:VCALENDAR
