BEGIN:VCALENDAR
VERSION:2.0
METHOD:PUBLISH
BEGIN:VEVENT
UID:WILD_APRICOT_EVENT_117047_SESSION_1
DTSTART:20100603T193000Z
DTEND:20100606T060000Z
SUMMARY:2010 Targa Rotorua
LOCATION:Rotorua
DESCRIPTION:http://nzfsmotorsport.org.nz/event-117047\n\nTarga Rotorua Rally for 2010\, 2 day event around Rotorua. \n Counting Down To Targa\n\n
DTSTAMP:20180120T190156Z
END:VEVENT
END:VCALENDAR
