BEGIN:VCALENDAR
VERSION:2.0
METHOD:PUBLISH
BEGIN:VEVENT
UID:WILD_APRICOT_EVENT_117049_SESSION_1
DTSTART:20101023T183000Z
DTEND:20101030T050000Z
SUMMARY:2010 Dunlop Targa Rally Auckland to Wellington
LOCATION:Auckland to Wellington
DESCRIPTION:http://nzfsmotorsport.org.nz/event-117049\n\nMain Dunlop Targa Rally for 2009\, 7 day event between Auckland and Wellington. \n Counting Down To Targa\n\n
DTSTAMP:20180120T185750Z
END:VEVENT
END:VCALENDAR
