BEGIN:VCALENDAR
VERSION:2.0
METHOD:PUBLISH
BEGIN:VEVENT
UID:WILD_APRICOT_EVENT_157124_SESSION_1
DTSTART:20100618T183000Z
DTEND:20100619T060000Z
SUMMARY:Taranaki Tarmac Rally
LOCATION:New Plymouth
DESCRIPTION:http://nzfsmotorsport.org.nz/event-157124\n\nOne of the most challenging Tarmac Rallies throughout the year\, ask Warren and Karl\, not a good rally to cut your teeth on. \n Visit the Taranaki Car Club Website for Entry Forms\n
DTSTAMP:20180120T190113Z
END:VEVENT
END:VCALENDAR
