BEGIN:VCALENDAR
VERSION:2.0
METHOD:PUBLISH
BEGIN:VEVENT
UID:WILD_APRICOT_EVENT_157126_SESSION_1
DTSTART:20100625T190000Z
DTEND:20100627T043000Z
SUMMARY:2010 Snow Ball Run
LOCATION:Taupo
DESCRIPTION:http://nzfsmotorsport.org.nz/event-157126\n\n2010 Snow Ball Run\, you want to have fun then this is the event not to miss    Visit the website for more info\n The Spill.....\n The SnowBall Run is our premium yearly event\, its a two day extravaganza based around the same idea as our CannonBall Run but with everything on a much larger scale.\n This ticket entitles the owner to enter his or her car in the SnowBall Run and also puts you in the draw for the awesome collection of prizes including the $5000 Big Snow Baller award for the overall winner and also assorted $1000 spot prizes.\n This ticket also gains you access to "The Dead Mans Ball" which is a no hold's party we will be having in Taupo somewhere and includes a free buffet meal and a full night of entertainment including a live stand up show by Ewen "The Westie" Gilmour. \n For more information check out the SnowBall Run info pages on this site and remember spots are limited to 250 cars. \n  Please note that accommodation is not included in any of our tickets and you will need to organise yours in advance as it will be Snow Season in Taupo\n
DTSTAMP:20180120T190052Z
END:VEVENT
END:VCALENDAR
