BEGIN:VCALENDAR
VERSION:2.0
METHOD:PUBLISH
BEGIN:VEVENT
UID:WILD_APRICOT_EVENT_15876_SESSION_1
DTSTART:20080725T070000Z
DTEND:20080727T120000Z
SUMMARY:Meet and Greet Taupo Raceway
LOCATION:Taupo
DESCRIPTION:http://nzfsmotorsport.org.nz/event-15876\n\nA planned meet and great weekend is being planned as part of the formation of the New Zealand Fire Service Motorsport Club\n The date for the event is tey to be confirmed.\n Proposed program\nFriday Evening                   Arrive in Taupo\nSaturday                           Track Day Taupo Raceway\nSaturday Evening Dinner     Location To be Advised\nSunday                              Travel Home.\n An email to all members will be sent out confirming the date.\n
DTSTAMP:20180120T191010Z
END:VEVENT
END:VCALENDAR
