BEGIN:VCALENDAR
VERSION:2.0
METHOD:PUBLISH
BEGIN:VEVENT
UID:WILD_APRICOT_EVENT_16130_SESSION_1
DTSTART:20081203T110000Z
DTEND:20081207T110000Z
SUMMARY:New Zealand Tourist Trophy Rally
LOCATION:North Shore to Paihia
DESCRIPTION:http://nzfsmotorsport.org.nz/event-16130\n\n3 Day Northland Tarmac Rally starting on the North Shore and finishing in the Bay of Islands..More Info.
DTSTAMP:20180120T190936Z
END:VEVENT
END:VCALENDAR
