BEGIN:VCALENDAR
VERSION:2.0
METHOD:PUBLISH
BEGIN:VEVENT
UID:WILD_APRICOT_EVENT_162223_SESSION_1
DTSTART:20100605T203000Z
DTEND:20100606T060000Z
SUMMARY:Capri Car Club Duel Car Sprints
LOCATION:Taupo Raceway
DESCRIPTION:http://nzfsmotorsport.org.nz/event-162223\n\nFord Capri Car Club Duel Car Sprints Taupo Raceway.\n Check out the Club Website  Ford Capri Club\n  \n
DTSTAMP:20180120T190134Z
END:VEVENT
END:VCALENDAR
