BEGIN:VCALENDAR
VERSION:2.0
METHOD:PUBLISH
BEGIN:VEVENT
UID:WILD_APRICOT_EVENT_162694_SESSION_1
DTSTART:20100529T070000Z
DTEND:20100529T070000Z
SUMMARY:Gentle Reminder Membership Fees Now Due
LOCATION:XX
DESCRIPTION:http://nzfsmotorsport.org.nz/event-162694\n\nMembers are reminded that Membership fees are now due for 2010/11 year.\n 2010 Annual General Meeting will be held at the end of June this year. Nomination Forms and reports will be available in the members area of the club website soon.\n
DTSTAMP:20180120T190227Z
END:VEVENT
END:VCALENDAR
