BEGIN:VCALENDAR
VERSION:2.0
METHOD:PUBLISH
BEGIN:VEVENT
UID:WILD_APRICOT_EVENT_165462_SESSION_1
DTSTART:20100602T060000Z
DTEND:20100602T063000Z
SUMMARY:Committee Meeting
LOCATION:Massimo Cafe Albany
DESCRIPTION:http://nzfsmotorsport.org.nz/event-165462\n\n                Committee Meeting \n\nAgenda\n     *  AGM Pre Meeting\n\n
DTSTAMP:20180120T190217Z
END:VEVENT
END:VCALENDAR
