BEGIN:VCALENDAR
VERSION:2.0
METHOD:PUBLISH
BEGIN:VEVENT
UID:WILD_APRICOT_EVENT_166617_SESSION_1
DTSTART:20100630T070000Z
DTEND:20100630T070000Z
SUMMARY:Annual General Meeting
LOCATION:Auckland Region Headquarters Meeting Room 3
DESCRIPTION:http://nzfsmotorsport.org.nz/event-166617\n\n\nAnnual General Meeting of the New Zealand Fire Service Motorsport Club Inc\, will be held at the New Zealand Fire Service Auckland Region Headquarters 1900 hours\, Board room one. \n Members outside of Auckland Please use this link Conference Call details which will provide calling details on how they can  be part of this meeting. Documentation will be available on the Website in the near future. Please register on the website your intent to be part of the AGM.\n Nominations Using the form online (shortly) should be emailed to\,                       AGM2010@nzfsmotorsport.org.nz\n For any further enquiries please email.  \n                            webmaster@nzfsmotorsport.org.nz\n
DTSTAMP:20180120T190020Z
END:VEVENT
END:VCALENDAR
