BEGIN:VCALENDAR
VERSION:2.0
METHOD:PUBLISH
BEGIN:VEVENT
UID:WILD_APRICOT_EVENT_173320_SESSION_1
DTSTART:20100703T183000Z
DTEND:20100704T060000Z
SUMMARY:Historic Racing Club Winter Series Round 2
LOCATION:Hampton Downs
DESCRIPTION:http://nzfsmotorsport.org.nz/event-173320\n\n\n Entries are now open for the Hampton Downs Winter Series!\n Four Rounds\n Great value for money – entries just $130\n It maybe the shortest day but come to Hampton Downs for good old fashioned racing. No handicaps \, no reverse grids\, no complicated series rules (except for Honda Cup and they are not complicated)\, just race against cars with similar lap times. Quick fire racing with 3 to 5 races in one day for each race group. Sashes and prizes for the first 3 places and a complimentry beer at the prize giving afterwards in Hamptons. Final race of the day will be an Allcomers 30 minute enduro.\n All cars welcome and you will be grouped in speed groups in the classes below. Entries are light for the Single seaters and sports racing cars so these classes are likely to be combined and the saloon cars will be split into at least two groups. \n Classes:\n Honda Cup\n Open Saloons\n Single Seaters\n Sports and Sports Racing Cars\n – dust it off\, bring it out and race it\n Food & Beverages all day\n Prizegiving for all classes\n Special guest classes at specific rounds include the SuperKarts\n Early Bird Special – enter all 4 rounds for just $400!\n Enter online at\n www.motorsportentry.com\n Format for the day: Testing\, Qualifying\, Racing\, Prizegiving!\n Each entry receives 10 guest passes.\n
DTSTAMP:20180120T185959Z
END:VEVENT
END:VCALENDAR
