BEGIN:VCALENDAR
VERSION:2.0
METHOD:PUBLISH
BEGIN:VEVENT
UID:WILD_APRICOT_EVENT_173828_SESSION_1
DTSTART:20100723T210000Z
DTEND:20100725T060000Z
SUMMARY:Speed Show 2010
LOCATION:ASB Show Grounds Greenlane
DESCRIPTION:http://nzfsmotorsport.org.nz/event-173828\n\n\n Click Here to find out more\n interested.\n “The most famous Nissan Supercar ever built” will be coming from the USA for Speedshow.\n The Steve Millen built Nissan GT-R is sensational! 620bhp on 91 octane fuel. 0-60mph in 2.9 seconds. 0-130mph in 11.4 seconds.\n Features\n Speedshow featured cars\n     * The Steve Millen Nissan GT-R      * STILLEN Ford GT      * Ferrari F430 Challenge Supercar      * 1906 Darracq Grand Prix car      * McLaren M12 CanAm      * 2010 Bentley Mulsanne      * Plus much more!\n\n  \n
DTSTAMP:20180120T185906Z
END:VEVENT
END:VCALENDAR
