BEGIN:VCALENDAR
VERSION:2.0
METHOD:PUBLISH
BEGIN:VEVENT
UID:WILD_APRICOT_EVENT_19650_SESSION_1
DTSTART:20080719T203000Z
DTEND:20080720T050000Z
SUMMARY:Quickfire Dual/Multi-car Sprints
LOCATION:Pukekohe Park Motor Racing Circuit
DESCRIPTION:http://nzfsmotorsport.org.nz/event-19650\n\nPlease print and fill in Both pages if you are interested in entering:\n\nPage 1\nCCF070708_00000.pdf\n\nPage 2\nCCF070708_00002.pdf\n
DTSTAMP:20180120T191024Z
END:VEVENT
END:VCALENDAR
