BEGIN:VCALENDAR
VERSION:2.0
METHOD:PUBLISH
BEGIN:VEVENT
UID:WILD_APRICOT_EVENT_201108_SESSION_1
DTSTART:20101015T060000Z
DTEND:20101015T085959Z
SUMMARY:2010 SCRUTINEER TRAINING COURSE
LOCATION:Northern Sports Car Club Mt Richmond Domain\, Otahuhu
DESCRIPTION:http://nzfsmotorsport.org.nz/event-201108\n\n \n Click Here to find out more\n Interested follow the link.....\n Confirmation of attendance would be appreciated either by e-mail\, fax or post.\n If you have any queries regarding these seminars please feel free to contact Rod Taylor on 04 815 8088 or rod@motorsport.org.nz\n Regards\,\n MotorSport New Zealand\n
DTSTAMP:20180120T185802Z
END:VEVENT
END:VCALENDAR
