BEGIN:VCALENDAR
VERSION:2.0
METHOD:PUBLISH
BEGIN:VEVENT
UID:WILD_APRICOT_EVENT_25260_SESSION_1
DTSTART:20081026T203000Z
DTEND:20081101T050000Z
SUMMARY:2008 Dunlop Targa Rally
LOCATION:North Island Event
DESCRIPTION:http://nzfsmotorsport.org.nz/event-25260\n\nThe 2008 Dunlop Targa Rally leaves Manukau City on Monday the 27th October and Finishing in Wellington on the 1st November.\n Competing from the Club this year\n Warren Glassford & Nigel Patterson\nGerry Hodges & Peter Robertson\nTerry Hewitt & Stu Hitchcock\nChris Lane & TBA\n All the teams look forward to catching up in Wellington for the street party.\n See you there.\n If you will be attending the finish in Wellington please indicate by registering.\n  \n
DTSTAMP:20180120T190958Z
END:VEVENT
END:VCALENDAR
