BEGIN:VCALENDAR
VERSION:2.0
METHOD:PUBLISH
BEGIN:VEVENT
UID:WILD_APRICOT_EVENT_28454_SESSION_1
DTSTART:20081108T200000Z
DTEND:20081108T200000Z
SUMMARY:The NZFS Motorsport Inaugural Family Car Rally
LOCATION:Meeting at Greenlane Foodtown @ 09.00hrs
DESCRIPTION:http://nzfsmotorsport.org.nz/event-28454\n\nGerry Hodges (Event Organiser) has organised the first event for our club\, that being a Driving and Navigational run through the Waikato countryside using some old Targa NZ roads.  \n Starting at Countdown Greenlane Carpark and finishing at a secret location for Lunch (cost for lunch is approx $30) this will be a fun family orientated day and a good chance for members to get together and meet each other. \n\n Registration is free for club members and is $20 (per car) for non club members. So polish up those cars and lets take them for a run and be sure to invite your friends because the more the merrier and we may get some new members out of it too.\n\nYou can register here on this page or if you have any questions you can email us at enquiries@nzfsmotorsport.org.nz \n\nWe look forward to seeing you there.\n\n
DTSTAMP:20180120T190947Z
END:VEVENT
END:VCALENDAR
