BEGIN:VCALENDAR
VERSION:2.0
METHOD:PUBLISH
BEGIN:VEVENT
UID:WILD_APRICOT_EVENT_33485_SESSION_1
DTSTART:20090501T210000Z
DTEND:20090502T050000Z
SUMMARY:Track Day Taupo Raceway
LOCATION:Taupo Raceway
DESCRIPTION:http://nzfsmotorsport.org.nz/event-33485\n\nThe BMW car Club have invited members of the NZFS Motorsport Club to take part in the Track Day at Taupo Raceway. \n The day will be split into two parts with the morning giving drivers the oportunity to take part in driver training on the track. The afternoon session will be a controlled open track allowing drivers to put into practice what they have learnt from the morning session.\n This will be a great oportunity for the club to meet up in a central location and have a combined dinner on the Saturday night.\n Watch the events page for further information. Entrys will open closer to the event and numbers may be limited.\n
DTSTAMP:20180120T190716Z
END:VEVENT
END:VCALENDAR
