BEGIN:VCALENDAR
VERSION:2.0
METHOD:PUBLISH
BEGIN:VEVENT
UID:WILD_APRICOT_EVENT_345982_SESSION_1
DTSTART:20110722T190000Z
DTEND:20110724T060000Z
SUMMARY:Speed Show 2011
LOCATION:ASB Show Grounds
DESCRIPTION:http://nzfsmotorsport.org.nz/event-345982\n\n \n       \n      ASB SHOWGROUNDS   AUCKLAND\n Tickets at the gate\nVisit the website www.speedshow.co.nz\n \nEnquiries please call (09) 445 3179\n
DTSTAMP:20180120T185719Z
END:VEVENT
END:VCALENDAR
