BEGIN:VCALENDAR
VERSION:2.0
METHOD:PUBLISH
BEGIN:VEVENT
UID:WILD_APRICOT_EVENT_36185_SESSION_1
DTSTART:20090306T183000Z
DTEND:20090308T053000Z
SUMMARY:2009 Dunlop Targa Bambina
LOCATION:Waikato
DESCRIPTION:http://nzfsmotorsport.org.nz/event-36185\n\nTBA
DTSTAMP:20180120T190843Z
END:VEVENT
END:VCALENDAR
