BEGIN:VCALENDAR
VERSION:2.0
METHOD:PUBLISH
BEGIN:VEVENT
UID:WILD_APRICOT_EVENT_36186_SESSION_1
DTSTART:20090612T193000Z
DTEND:20090614T063000Z
SUMMARY:2009 Dunlop Targa Rotorua
LOCATION:Rotorua
DESCRIPTION:http://nzfsmotorsport.org.nz/event-36186\n\nTwo Day Rally in Rotorua\n
DTSTAMP:20180120T190623Z
END:VEVENT
END:VCALENDAR
