BEGIN:VCALENDAR
VERSION:2.0
METHOD:PUBLISH
BEGIN:VEVENT
UID:WILD_APRICOT_EVENT_36187_SESSION_1
DTSTART:20091024T183000Z
DTEND:20091031T050000Z
SUMMARY:2009 Dunlop Targa Rally Auckland to Wellington
LOCATION:Auckland to Wellington
DESCRIPTION:http://nzfsmotorsport.org.nz/event-36187\n\nMain Dunlop Targa Rally for 2009\, 7 day event between Auckland and Wellington. \n Counting Down To Targa\n\n
DTSTAMP:20180120T190519Z
END:VEVENT
END:VCALENDAR
