BEGIN:VCALENDAR
VERSION:2.0
METHOD:PUBLISH
BEGIN:VEVENT
UID:WILD_APRICOT_EVENT_36188_SESSION_1
DTSTART:20090515T060000Z
DTEND:20090517T060000Z
SUMMARY:Taranaki Tarmac Rally
LOCATION:New Plymouth
DESCRIPTION:http://nzfsmotorsport.org.nz/event-36188\n\nOne of the most challenging Tarmac Rallies throughout the year\, ask Warren and Karl\, not a good rally to cut your teeth on.
DTSTAMP:20180120T190706Z
END:VEVENT
END:VCALENDAR
