BEGIN:VCALENDAR
VERSION:2.0
METHOD:PUBLISH
BEGIN:VEVENT
UID:WILD_APRICOT_EVENT_36189_SESSION_1
DTSTART:20090113T050000Z
DTEND:20090113T070000Z
SUMMARY:Committee Meeting
LOCATION:Bays Club
DESCRIPTION:http://nzfsmotorsport.org.nz/event-36189\n\nCommittee Meeting
DTSTAMP:20180120T190914Z
END:VEVENT
END:VCALENDAR
