BEGIN:VCALENDAR
VERSION:2.0
METHOD:PUBLISH
BEGIN:VEVENT
UID:WILD_APRICOT_EVENT_363374_SESSION_1
DTSTART:20110811T203000Z
DTEND:20110813T060000Z
SUMMARY:Historic Racing Club Winter Series
LOCATION:Hampton Downs
DESCRIPTION:http://nzfsmotorsport.org.nz/event-363374\n\n\n  \n   \n  VIP Petfoods 12 Hour Race - Hampton Downs - 12/13 August\nHRC Inc/Taupo Classic Rally Club\n \n Entries are still being accepted for the Dynatron 3 hour race and the Race Tech 6 hour race to be run within the VIP Petfoods 12 race. This will cater for competitors who felt 12 hours was too long for them or their machinery! The 3 hour and 6 hour races have a minimum of only two drivers and there will be trophies awarded for these two category winners. However\, you do have to run the full 12 hours to win the prestigious class prizes.\n \n Remember the race will be televised on TV1.\n  \n Tony Quinn will head up the Australian contingent in his Porsche 997 RSR - Other cars entered are: Ford Focus V8\, Honda Civic R\, Mitsubishi Lancer Evo 1/Evo 9\, Porsche GT3\, various Honda's and BMW's. If you want to add your car to this field?  Go to\; www.motorsportentry.com\, or  the website www.endurance.org.nz\n  \n Last year's inaugural 12 Hour Endurance Race at Hampton Downs was a ton of fun for competitors and marshals alike. The field was small\, but competition was fierce. Who would have believed a BMW 320 would take third place???\n \n This year the classes have been changed to reflect the current market range and while this puts some 2 litre cars into a class with tough competition\, the 2 litre cars can\, for a donation to Autism NZ Taupo Branch\, enter the 2 litre challenge. This group will have separate trophies and certificates awarded.\n   \n
DTSTAMP:20180120T185657Z
END:VEVENT
END:VCALENDAR
