BEGIN:VCALENDAR
VERSION:2.0
METHOD:PUBLISH
BEGIN:VEVENT
UID:WILD_APRICOT_EVENT_41192_SESSION_1
DTSTART:20090207T190000Z
DTEND:20090208T040000Z
SUMMARY:Motokana
LOCATION:Glen Road\, Massey
DESCRIPTION:http://nzfsmotorsport.org.nz/event-41192\n\nFamily Fun Event\n The Hibiscuss Car Club have invited members to attend their Motokana to be held at Glen Road Massey. Come have some fun.\n Event Details\n\nMOTORKHANAS: An excellent way to start motorsport\, a Motorkhana involves driving around various short courses marked by plastic cones. The time is recorded and penalties are added for knocking over the cones or not completing the course correctly. Usually smaller cars do well\, but it is more the skill of the drivers car handling that provides the winner. We run several of these each year\, drivers do not need helmets\, overalls\, or special MSNZ licences and Motorkhanas are open to all types of cars. \n
DTSTAMP:20180120T190903Z
END:VEVENT
END:VCALENDAR
