BEGIN:VCALENDAR
VERSION:2.0
METHOD:PUBLISH
BEGIN:VEVENT
UID:WILD_APRICOT_EVENT_431082_SESSION_1
DTSTART:20120125T183000Z
DTEND:20120129T050000Z
SUMMARY:New Zealand Festival of Motor Racing - BMW Motorsport
LOCATION:Hampton Downs Raceway
DESCRIPTION:http://nzfsmotorsport.org.nz/event-431082\n\nCelebrating BMW Motorsport\n  This is set to be two HUGE weekends of close racing on 20- 22 and 26 - 29 January. I hear that the entries are approaching 350\, so the sheer variety of cars\, along with the "stars" will make for an action packed six days.\n
DTSTAMP:20180120T185553Z
END:VEVENT
END:VCALENDAR
