BEGIN:VCALENDAR
VERSION:2.0
METHOD:PUBLISH
BEGIN:VEVENT
UID:WILD_APRICOT_EVENT_431084_SESSION_1
DTSTART:20120203T183000Z
DTEND:20120205T050000Z
SUMMARY:New Zealand Motor Cup / Midsummer Thunder
LOCATION:Hampton Downs Raceway
DESCRIPTION:http://nzfsmotorsport.org.nz/event-431084\n\nHampton Downs raceway\n   \n
DTSTAMP:20180120T185531Z
END:VEVENT
END:VCALENDAR
