BEGIN:VCALENDAR
VERSION:2.0
METHOD:PUBLISH
BEGIN:VEVENT
UID:WILD_APRICOT_EVENT_431085_SESSION_1
DTSTART:20120216T183000Z
DTEND:20120219T050000Z
SUMMARY:V8 SuperTourers
LOCATION:Hampton Downs Raceway
DESCRIPTION:http://nzfsmotorsport.org.nz/event-431085\n\nHampton Downs raceway\n   \n
DTSTAMP:20180120T185510Z
END:VEVENT
END:VCALENDAR
