BEGIN:VCALENDAR
VERSION:2.0
METHOD:PUBLISH
BEGIN:VEVENT
UID:WILD_APRICOT_EVENT_431086_SESSION_1
DTSTART:20120302T183000Z
DTEND:20120304T050000Z
SUMMARY:Legends of Speed
LOCATION:Hampton Downs Raceway
DESCRIPTION:http://nzfsmotorsport.org.nz/event-431086\n\nHampton Downs raceway\n   \n
DTSTAMP:20180120T185447Z
END:VEVENT
END:VCALENDAR
