BEGIN:VCALENDAR
VERSION:2.0
METHOD:PUBLISH
BEGIN:VEVENT
UID:WILD_APRICOT_EVENT_431087_SESSION_1
DTSTART:20120323T183000Z
DTEND:20120325T050000Z
SUMMARY:Tasman Revival Meeting
LOCATION:Pukekohe Park Raceway
DESCRIPTION:http://nzfsmotorsport.org.nz/event-431087\n\nPukekohe Park Raceway\n   \n
DTSTAMP:20180120T185405Z
END:VEVENT
END:VCALENDAR
