BEGIN:VCALENDAR
VERSION:2.0
METHOD:PUBLISH
BEGIN:VEVENT
UID:WILD_APRICOT_EVENT_52474_SESSION_1
DTSTART:20090430T070000Z
DTEND:20090430T070000Z
SUMMARY:Annual General Meeting
LOCATION:Auckland Region Headquarters Board Room
DESCRIPTION:http://nzfsmotorsport.org.nz/event-52474\n\nAnnual Genral Meeting 2009          Financial Accounts 2008\n\npresidents report\n\nAnnual General Meeting of the New Zealand Fire Service Motorsport Club Inc\, will be held at the New Zealand Fire Service Auckland Region Headquarters\, Board room one. \n Members outside of Auckland will receive notification on how they can  be part of this meeting. Documentation will be mailed out in the near future. Please register on the website your intent to be part of the AGM.\n
DTSTAMP:20180120T190727Z
END:VEVENT
END:VCALENDAR
