BEGIN:VCALENDAR
VERSION:2.0
METHOD:PUBLISH
BEGIN:VEVENT
UID:WILD_APRICOT_EVENT_55708_SESSION_1
DTSTART:20090306T020000Z
DTEND:20090306T020000Z
SUMMARY:Committee Meeting
LOCATION:Masimos Westfield Albany
DESCRIPTION:http://nzfsmotorsport.org.nz/event-55708\n\nCommittee Meeting
DTSTAMP:20180120T190853Z
END:VEVENT
END:VCALENDAR
