BEGIN:VCALENDAR
VERSION:2.0
METHOD:PUBLISH
BEGIN:VEVENT
UID:WILD_APRICOT_EVENT_571765_SESSION_1
DTSTART:20121022T183000Z
DTEND:20121028T050000Z
SUMMARY:2012 Targa Rally Auckland to Napier
LOCATION:Auckland to Napier
DESCRIPTION:http://nzfsmotorsport.org.nz/event-571765\n\nTarga Rally for 2012\, 7 day event between Auckland and Napier.\n  Counting Down To Targa\n  It is finally here!It is finally here!\n
DTSTAMP:20180120T185354Z
END:VEVENT
END:VCALENDAR
