BEGIN:VCALENDAR
VERSION:2.0
METHOD:PUBLISH
BEGIN:VEVENT
UID:WILD_APRICOT_EVENT_63005_SESSION_1
DTSTART:20090605T200000Z
DTEND:20090606T043000Z
SUMMARY:Motorsport Safety Crews Training Day
LOCATION:New Zealand Fire Service Training Centre Auckland
DESCRIPTION:http://nzfsmotorsport.org.nz/event-63005\n\nTraining day to support Safety Crews at Motorsport Events\, this will be a certificated course valid for two years and revalidated on compleation of a refresher course.\n The day will involve:\nHealth & Safety\nBasic Medical\nBasic Firefighting\nVehicle Construction\nVehicle Safety Features \n\nThis Training Day is hosted by the\nNew Zealand Fire Service Motorsport Club.\n
DTSTAMP:20180120T190633Z
END:VEVENT
END:VCALENDAR
