BEGIN:VCALENDAR
VERSION:2.0
METHOD:PUBLISH
BEGIN:VEVENT
UID:WILD_APRICOT_EVENT_63729_SESSION_1
DTSTART:20090529T200000Z
DTEND:20090530T043000Z
SUMMARY:Track Day for Westpac Rescue Helicopter
LOCATION:Pukekohe Park Raceway
DESCRIPTION:http://nzfsmotorsport.org.nz/event-63729\n\nTrack day to raise funds for the Westpac Rescue Helicopter\, this is a good oportunity to take sponsors and friends out for a day of fun around the Pukekohe circuit.\n For more info checkout the link below.\n Westpac Chopper Appeal Track Day\n
DTSTAMP:20180120T190645Z
END:VEVENT
END:VCALENDAR
