BEGIN:VCALENDAR
VERSION:2.0
METHOD:PUBLISH
BEGIN:VEVENT
UID:WILD_APRICOT_EVENT_67139_SESSION_1
DTSTART:20090627T200000Z
DTEND:20090628T043000Z
SUMMARY:Auckland Car Club 2009 Dual/Multi-Car Sprints
LOCATION:Pukekohe Park Raceway
DESCRIPTION:http://nzfsmotorsport.org.nz/event-67139\n\n  The event will consist of dual car circuit sprints followed by multi-car circuit sprints. \n The event will be held at Pukekohe Park Motor Racing Circuit on Sunday 28 June 2009. \n Scrutineering on the day starts at 8:30am Sunday 28 June at Pukekohe Park Motor Racing Circuit. \n SupplementaryRegulations    EntryForm  \n
DTSTAMP:20180120T190551Z
END:VEVENT
END:VCALENDAR
