BEGIN:VCALENDAR
VERSION:2.0
METHOD:PUBLISH
BEGIN:VEVENT
UID:WILD_APRICOT_EVENT_67507_SESSION_1
DTSTART:20090629T040000Z
DTEND:20090629T050000Z
SUMMARY:Committee Meeting
LOCATION:Massimo Cafe Albany
DESCRIPTION:http://nzfsmotorsport.org.nz/event-67507\n\nCommittee Meeting \n\nAgenda\n     * Apologies      * Minutes      * Accounts      * Way Forward for the Club      * Membership      * Motorsport Training Day update      * Club Events      * General Bussiness\n\n
DTSTAMP:20180120T190540Z
END:VEVENT
END:VCALENDAR
