BEGIN:VCALENDAR
VERSION:2.0
METHOD:PUBLISH
BEGIN:VEVENT
UID:WILD_APRICOT_EVENT_69351_SESSION_1
DTSTART:20090705T043000Z
DTEND:20090705T043000Z
SUMMARY:Targa Rotorua TV1 Presentation
LOCATION:Your Lounge TV1 17:00hrs
DESCRIPTION:http://nzfsmotorsport.org.nz/event-69351\n\n  \nHighlights from Targa Rotorua on TV1 around 5pm Sunday July 5th. it back and watch our club members Gerry Hodges and Peter Robinson along with Chris Simpson and Craig McEwen compete in this thrilling event and on some of the best roads New Zealand has to offer.\n Watch the thrills and spills on high speed closed road stages around the Bay of Plenty and get a real insight to what Targa is all about.\n
DTSTAMP:20180120T190530Z
END:VEVENT
END:VCALENDAR
