BEGIN:VCALENDAR
VERSION:2.0
METHOD:PUBLISH
BEGIN:VEVENT
UID:WILD_APRICOT_EVENT_751339_SESSION_1
DTSTART:20140423T190000Z
DTEND:20140427T050000Z
SUMMARY:ITM 500 V8 Super Cars
LOCATION:Pukekohe Park Raceway
DESCRIPTION:http://nzfsmotorsport.org.nz/event-751339\n\n       \n  Crew required for the ITM 400 Pukekohe Park\n  Firefighters required....\n  Now is a good time to register for the 2014\n round of the V8 Super Cars at Pukekohe Park raceway.\n  Once again we require...\n  FIV Crew\n Pit Crew\n Fire Crews\n Rescue Crew\n  Register now to be part of this event.\n
DTSTAMP:20180120T185045Z
END:VEVENT
END:VCALENDAR
