BEGIN:VCALENDAR
VERSION:2.0
METHOD:PUBLISH
BEGIN:VEVENT
UID:WILD_APRICOT_EVENT_792979_SESSION_1
DTSTART:20140301T183000Z
DTEND:20140302T050000Z
SUMMARY:Eco Light Rally sprint
LOCATION:Echo Light stadium Pukekohe
DESCRIPTION:http://nzfsmotorsport.org.nz/event-792979\n\nThis will be a one day Sprint Rally\, consisting of 65k's of Special Stage\, 8 stages\, 120k's of Touring based from the Pukekohe Ecolight stadium in south Auckland. Pre Scuritneering is compulsory and documentation will be on the Saturday evening.\n\n   \n
DTSTAMP:20180120T185214Z
END:VEVENT
END:VCALENDAR
