BEGIN:VCALENDAR
VERSION:2.0
METHOD:PUBLISH
BEGIN:VEVENT
UID:WILD_APRICOT_EVENT_856720_SESSION_1
DTSTART:20140324T110000Z
DTEND:20140330T110000Z
SUMMARY:Beach Hop 2014
LOCATION:Whangamata
DESCRIPTION:http://nzfsmotorsport.org.nz/event-856720\n\n   \n      \n         Click the link above to check out the program\n   \n 
DTSTAMP:20180120T185204Z
END:VEVENT
END:VCALENDAR
